BEGIN:VCALENDAR
VERSION:2.0
PRODID:-//ddaysoftware.com//NONSGML DDay.iCal 1.0//EN
BEGIN:VTIMEZONE
TZID:W. Europe Standard Time
BEGIN:STANDARD
DTSTART:20251002T030000
RRULE:FREQ=YEARLY;BYDAY=-1SU;BYHOUR=3;BYMINUTE=0;BYMONTH=10
TZNAME:Mitteleuropäische Zeit
TZOFFSETFROM:+0200
TZOFFSETTO:+0100
END:STANDARD
BEGIN:DAYLIGHT
DTSTART:20250301T020000
RRULE:FREQ=YEARLY;BYDAY=-1SU;BYHOUR=2;BYMINUTE=0;BYMONTH=3
TZNAME:Mitteleuropäische Sommerzeit
TZOFFSETFROM:+0100
TZOFFSETTO:+0200
END:DAYLIGHT
END:VTIMEZONE
BEGIN:VEVENT
CATEGORIES:Veranstaltung
DESCRIPTION:Artenschutz und Landwirtschaft Hand in Hand. Wie das genau funk
 tioniert und welche Erfahrungen Landwirte bei der Anlage von Produktionsin
 tegrierten Kompensationsmaßnahmen machen wollen wir bei unserem jährlichen
  Feldtermin besprechen.\n\nhttps://www.lpv-straubing-bogen.de/aktuelles/ve
 ranstaltungen/pik-rundfahrt-2024/
DTEND:20240616T134236
DTSTAMP:20260421T090605Z
DTSTART:20240506T134230
SEQUENCE:0
SUMMARY:PIK Rundfahrt 2024
UID:67841
URL:https://www.lpv-straubing-bogen.de/aktuelles/veranstaltungen/pik-rundfa
 hrt-2024/
END:VEVENT
END:VCALENDAR
